BEGIN:VCALENDAR
PRODID:-//Microsoft Corporation//Outlook 12.0 MIMEDIR//EN
VERSION:2.0
METHOD:PUBLISH
X-MS-OLK-FORCEINSPECTOROPEN:TRUE
BEGIN:VEVENT
CLASS:PUBLIC
CREATED:20140922T035204
DESCRIPTION:Art in Odd Places Number Festival on 14th St.\n\neteam | Nothing for Free\n\nSee www.artinoddplaces.org/number/artists/eteam for more info
DTEND:20141013T000000
DTSTAMP:20140922T035204
DTSTART:20141010T000000
LAST-MODIFIED:20140923T031936
LOCATION:http://maps.google.com/maps?q=40.736559489006304+-73.99497985839844\n\n<p>The artists will be free on Friday, Saturday, and Sunday, October 10-12 all day long. A petrified piece of wood on 14th street will benchmark them against something the promise to do not. Don’t put it on your calendar though. NYC is so crowded and expectant and they might be absent. Present in Nothing. Arizona. Coordinates: ?34°28′47″N?113°20′7″W. Elevation 3269ft.</p>

PRIORITY:5
SEQUENCE:0
SUMMARY;LANGUAGE=en-us:eteam | Nothing for Free
TRANSP:OPAQUE
UID:040000008200E00074C5B7101A82E008000000008062306C6261CA01000000000000000
X-MICROSOFT-CDO-BUSYSTATUS:BUSY
X-MICROSOFT-CDO-IMPORTANCE:1
X-MICROSOFT-DISALLOW-COUNTER:FALSE
X-MS-OLK-ALLOWEXTERNCHECK:TRUE
X-MS-OLK-AUTOFILLLOCATION:FALSE
X-MS-OLK-CONFTYPE:0
BEGIN:VALARM
TRIGGER:-PT1440M
ACTION:DISPLAY
DESCRIPTION:Reminder
END:VALARM
END:VEVENT
END:VCALENDAR
