BEGIN:VCALENDAR
PRODID:-//Microsoft Corporation//Outlook 12.0 MIMEDIR//EN
VERSION:2.0
METHOD:PUBLISH
X-MS-OLK-FORCEINSPECTOROPEN:TRUE
BEGIN:VEVENT
CLASS:PUBLIC
CREATED:20140922T201413
DESCRIPTION:Art in Odd Places Number Festival on 14th St.\n\nRory Golden | Duty Free Ranger\n\nSee www.artinoddplaces.org/number/artists/golden-rory for more info
DTEND:20141013T000000
DTSTAMP:20140922T201413
DTSTART:20141009T000000
LAST-MODIFIED:20141009T164440
LOCATION:http://maps.google.com/maps?q=40.73025074978132+-73.9804744720459\n\n<div dir="ltr"><span class="aBn" tabindex="0" data-term="goog_442801678"><span class="aQJ">Thursday, October 9 from 6-9pm</span></span>, loitering on both sides of 14th Street from Avenue A to First Avenue.</div>
<div dir="ltr"><span class="aBn" tabindex="0" data-term="goog_442801679"><span class="aQJ">Friday, October 10 from 6-8pm</span></span>, an evening stroll from Union Square to Avenue A  on the north side of 14th Street.</div>
<div dir="ltr"><span class="aBn" tabindex="0" data-term="goog_442801680"><span class="aQJ">Saturday, October 11 from 2-6pm</span></span>, strolling from Seventh Avenue to First Avenue on the north side of 14th Street.</div>
<div dir="ltr"><span class="aBn" tabindex="0" data-term="goog_442801681"><span class="aQJ">Sunday, October 12 from 2-5pm</span></span>, strolling from Seventh Avenue to First Avenue on the north side of 14th Street.</div>

PRIORITY:5
SEQUENCE:0
SUMMARY;LANGUAGE=en-us:Rory Golden | Duty Free Ranger
TRANSP:OPAQUE
UID:040000008200E00074C5B7101A82E008000000008062306C6261CA01000000000000000
X-MICROSOFT-CDO-BUSYSTATUS:BUSY
X-MICROSOFT-CDO-IMPORTANCE:1
X-MICROSOFT-DISALLOW-COUNTER:FALSE
X-MS-OLK-ALLOWEXTERNCHECK:TRUE
X-MS-OLK-AUTOFILLLOCATION:FALSE
X-MS-OLK-CONFTYPE:0
BEGIN:VALARM
TRIGGER:-PT1440M
ACTION:DISPLAY
DESCRIPTION:Reminder
END:VALARM
END:VEVENT
END:VCALENDAR
