BEGIN:VCALENDAR
PRODID:-//Microsoft Corporation//Outlook 12.0 MIMEDIR//EN
VERSION:2.0
METHOD:PUBLISH
X-MS-OLK-FORCEINSPECTOROPEN:TRUE
BEGIN:VEVENT
CLASS:PUBLIC
CREATED:20140922T214806
DESCRIPTION:Art in Odd Places Number Festival on 14th St.\n\nAnabella Lenzu/DanceDrama | The Grass is Always Greener...\n\nSee www.artinoddplaces.org/number/artists/lenzu-anabella for more info
DTEND:20141013T000000
DTSTAMP:20140922T214806
DTSTART:20141009T000000
LAST-MODIFIED:20140923T033332
LOCATION:http://maps.google.com/maps?q=40.73507991571977+-73.99116039276123\n\n<p>Throughout the festival from 12:30-1:30pm at 14th Street, Union Square Park, in front of Whole Foods.</p>

PRIORITY:5
SEQUENCE:0
SUMMARY;LANGUAGE=en-us:Anabella Lenzu/DanceDrama | The Grass is Always Greener...
TRANSP:OPAQUE
UID:040000008200E00074C5B7101A82E008000000008062306C6261CA01000000000000000
X-MICROSOFT-CDO-BUSYSTATUS:BUSY
X-MICROSOFT-CDO-IMPORTANCE:1
X-MICROSOFT-DISALLOW-COUNTER:FALSE
X-MS-OLK-ALLOWEXTERNCHECK:TRUE
X-MS-OLK-AUTOFILLLOCATION:FALSE
X-MS-OLK-CONFTYPE:0
BEGIN:VALARM
TRIGGER:-PT1440M
ACTION:DISPLAY
DESCRIPTION:Reminder
END:VALARM
END:VEVENT
END:VCALENDAR
