BEGIN:VCALENDAR
PRODID:-//Microsoft Corporation//Outlook 12.0 MIMEDIR//EN
VERSION:2.0
METHOD:PUBLISH
X-MS-OLK-FORCEINSPECTOROPEN:TRUE
BEGIN:VEVENT
CLASS:PUBLIC
CREATED:20140922T222042
DESCRIPTION:Art in Odd Places Number Festival on 14th St.\n\nAndrew McFarland & Emma Dessau | The Story Store\n\nSee www.artinoddplaces.org/number/artists/mcfarland-andrew-emma-dessau for more info
DTEND:20141013T000000
DTSTAMP:20140922T222042
DTSTART:20141009T000000
LAST-MODIFIED:20150207T024108
LOCATION:http://maps.google.com/maps?q=40.730185708117375+-73.97914409637451\n\n<p>Thursday, October 9, from 6-8pm on East 14th Street, outside Stuyvesant Town.</p>
<p>Saturday, October 11, from 12-4pm in Maria Hernandez Park, Bushwick.</p>
<p>Sunday, October 12, from 12-4pm in Prospect Park, near the Grand Army Plaza entrance.</p>

PRIORITY:5
SEQUENCE:0
SUMMARY;LANGUAGE=en-us:Andrew McFarland & Emma Dessau | The Story Store
TRANSP:OPAQUE
UID:040000008200E00074C5B7101A82E008000000008062306C6261CA01000000000000000
X-MICROSOFT-CDO-BUSYSTATUS:BUSY
X-MICROSOFT-CDO-IMPORTANCE:1
X-MICROSOFT-DISALLOW-COUNTER:FALSE
X-MS-OLK-ALLOWEXTERNCHECK:TRUE
X-MS-OLK-AUTOFILLLOCATION:FALSE
X-MS-OLK-CONFTYPE:0
BEGIN:VALARM
TRIGGER:-PT1440M
ACTION:DISPLAY
DESCRIPTION:Reminder
END:VALARM
END:VEVENT
END:VCALENDAR
