BEGIN:VCALENDAR
PRODID:-//Microsoft Corporation//Outlook 12.0 MIMEDIR//EN
VERSION:2.0
METHOD:PUBLISH
X-MS-OLK-FORCEINSPECTOROPEN:TRUE
BEGIN:VEVENT
CLASS:PUBLIC
CREATED:20140922T224555
DESCRIPTION:Art in Odd Places Number Festival on 14th St.\n\nJody Oberfelder | Street Greet\n\nSee www.artinoddplaces.org/number/artists/oberfelder-jody for more info
DTEND:20141013T000000
DTSTAMP:20140922T224555
DTSTART:20141009T000000
LAST-MODIFIED:20140926T023811
LOCATION:http://maps.google.com/maps?q=40.73465615824303+-73.989949375391\n\n<p class="p1">Throughout the festival, from 12:30-2pm. At 14th Street and Fourth Avenue, by the escalator leading down to the subway.</p>
<p class="p1">Photo by Jordan Matter</p>

PRIORITY:5
SEQUENCE:0
SUMMARY;LANGUAGE=en-us:Jody Oberfelder | Street Greet
TRANSP:OPAQUE
UID:040000008200E00074C5B7101A82E008000000008062306C6261CA01000000000000000
X-MICROSOFT-CDO-BUSYSTATUS:BUSY
X-MICROSOFT-CDO-IMPORTANCE:1
X-MICROSOFT-DISALLOW-COUNTER:FALSE
X-MS-OLK-ALLOWEXTERNCHECK:TRUE
X-MS-OLK-AUTOFILLLOCATION:FALSE
X-MS-OLK-CONFTYPE:0
BEGIN:VALARM
TRIGGER:-PT1440M
ACTION:DISPLAY
DESCRIPTION:Reminder
END:VALARM
END:VEVENT
END:VCALENDAR
