BEGIN:VCALENDAR
PRODID:-//Microsoft Corporation//Outlook 12.0 MIMEDIR//EN
VERSION:2.0
METHOD:PUBLISH
X-MS-OLK-FORCEINSPECTOROPEN:TRUE
BEGIN:VEVENT
CLASS:PUBLIC
CREATED:20140922T225013
DESCRIPTION:Art in Odd Places Number Festival on 14th St.\n\nCupid Ojala | Love Prescriptions by Cupid\n\nSee www.artinoddplaces.org/number/artists/ojala-cupid for more info
DTEND:20141013T000000
DTSTAMP:20140922T225013
DTSTART:20141011T000000
LAST-MODIFIED:20140923T033849
LOCATION:http://maps.google.com/maps?q=40.74103052698703+-74.0053224563598\n\n<p>Saturday, October 11 and Sunday, October 12 from 12-6pm at 14th Street and Ninth Avenue.</p>

PRIORITY:5
SEQUENCE:0
SUMMARY;LANGUAGE=en-us:Cupid Ojala | Love Prescriptions by Cupid
TRANSP:OPAQUE
UID:040000008200E00074C5B7101A82E008000000008062306C6261CA01000000000000000
X-MICROSOFT-CDO-BUSYSTATUS:BUSY
X-MICROSOFT-CDO-IMPORTANCE:1
X-MICROSOFT-DISALLOW-COUNTER:FALSE
X-MS-OLK-ALLOWEXTERNCHECK:TRUE
X-MS-OLK-AUTOFILLLOCATION:FALSE
X-MS-OLK-CONFTYPE:0
BEGIN:VALARM
TRIGGER:-PT1440M
ACTION:DISPLAY
DESCRIPTION:Reminder
END:VALARM
END:VEVENT
END:VCALENDAR
