BEGIN:VCALENDAR
PRODID:-//Microsoft Corporation//Outlook 12.0 MIMEDIR//EN
VERSION:2.0
METHOD:PUBLISH
X-MS-OLK-FORCEINSPECTOROPEN:TRUE
BEGIN:VEVENT
CLASS:PUBLIC
CREATED:20140922T225550
DESCRIPTION:Art in Odd Places Number Festival on 14th St.\n\nJoel Ong & Robert Blatt | The Man Who Knew Too Much\n\nSee www.artinoddplaces.org/number/artists/ong-joel-robert-blatt for more info
DTEND:20141013T000000
DTSTAMP:20140922T225550
DTSTART:20141010T000000
LAST-MODIFIED:20141009T165236
LOCATION:http://maps.google.com/maps?q=40.735840030281935+-73.99351537227625\n\n<p class="p1">Friday, October 10 through Sunday, October 12, from 11am-12pm and 3-4pm. Moving along 14th Street from the New School at the intersection of 14th Street and Fifth Avenue, towards the High Line at 14th Street and the Hudson River and back.</p>
<p>This project is a continuation of research conducted at the Centre for Digital Arts and Experimental Media, DXARTS in Seattle, WA.  The project is supported by the National Arts Council of Singapore, Singapore International Foundation, and also features the Detektor, a project by Martin Howse and Shintaro Miyazaki.</p>

PRIORITY:5
SEQUENCE:0
SUMMARY;LANGUAGE=en-us:Joel Ong & Robert Blatt | The Man Who Knew Too Much
TRANSP:OPAQUE
UID:040000008200E00074C5B7101A82E008000000008062306C6261CA01000000000000000
X-MICROSOFT-CDO-BUSYSTATUS:BUSY
X-MICROSOFT-CDO-IMPORTANCE:1
X-MICROSOFT-DISALLOW-COUNTER:FALSE
X-MS-OLK-ALLOWEXTERNCHECK:TRUE
X-MS-OLK-AUTOFILLLOCATION:FALSE
X-MS-OLK-CONFTYPE:0
BEGIN:VALARM
TRIGGER:-PT1440M
ACTION:DISPLAY
DESCRIPTION:Reminder
END:VALARM
END:VEVENT
END:VCALENDAR
