BEGIN:VCALENDAR
PRODID:-//Microsoft Corporation//Outlook 12.0 MIMEDIR//EN
VERSION:2.0
METHOD:PUBLISH
X-MS-OLK-FORCEINSPECTOROPEN:TRUE
BEGIN:VEVENT
CLASS:PUBLIC
CREATED:20140923T014934
DESCRIPTION:Art in Odd Places Number Festival on 14th St.\n\nMaayan Sheleff, Eran Hadas, Gal Eshel | Frankie, The Documentarian Robot\n\nSee www.artinoddplaces.org/number/artists/sheleff-maayan-eran-hadas-gal-eshel for more info
DTEND:20141013T000000
DTSTAMP:20140923T014934
DTSTART:20141009T000000
LAST-MODIFIED:20140927T015421
LOCATION:http://maps.google.com/maps?q=40.738319+-73.99835999999999\n\n<p>Frankie will conduct interviews on Thursday, October 9 from 5-9pm, Friday, October 10 from 1-5pm, Saturday, October 11 from 2-8pm, and Sunday, October 12 from 2-8pm. At Inter Space &#8211; Art Neuroscience Lab (137 West 14th Street).</p>
<p>The artists would like to thank Artport and Artis for their generous support, as well as Inter Space &#8211; Art Neuroscience Lab for hosting Frankie.</p>

PRIORITY:5
SEQUENCE:0
SUMMARY;LANGUAGE=en-us:Maayan Sheleff, Eran Hadas, Gal Eshel | Frankie, The Documentarian Robot
TRANSP:OPAQUE
UID:040000008200E00074C5B7101A82E008000000008062306C6261CA01000000000000000
X-MICROSOFT-CDO-BUSYSTATUS:BUSY
X-MICROSOFT-CDO-IMPORTANCE:1
X-MICROSOFT-DISALLOW-COUNTER:FALSE
X-MS-OLK-ALLOWEXTERNCHECK:TRUE
X-MS-OLK-AUTOFILLLOCATION:FALSE
X-MS-OLK-CONFTYPE:0
BEGIN:VALARM
TRIGGER:-PT1440M
ACTION:DISPLAY
DESCRIPTION:Reminder
END:VALARM
END:VEVENT
END:VCALENDAR
