BEGIN:VCALENDAR
PRODID:-//Microsoft Corporation//Outlook 12.0 MIMEDIR//EN
VERSION:2.0
METHOD:PUBLISH
X-MS-OLK-FORCEINSPECTOROPEN:TRUE
BEGIN:VEVENT
CLASS:PUBLIC
CREATED:20140923T015429
DESCRIPTION:Art in Odd Places Number Festival on 14th St.\n\nNiki Singleton, Todd Lester, Thiago Carrapatoso | Quality of Life Enforcement\n\nSee www.artinoddplaces.org/number/artists/singleton-niki-todd-lester-thiago-carrapatoso for more info
DTEND:20141013T000000
DTSTAMP:20140923T015429
DTSTART:20141009T000000
LAST-MODIFIED:20140923T035020
LOCATION:http://maps.google.com/maps?q=40.73529128534676+-73.9918041229248\n\n<p>To read about their experiences and to learn the meeting points, times, and special guests for daily walks during AiOP, visit <a href="http://quality-of-life-enforcement.tumblr.com">quality-of-life-enforcement.tumblr.com</a>.</p>

PRIORITY:5
SEQUENCE:0
SUMMARY;LANGUAGE=en-us:Niki Singleton, Todd Lester, Thiago Carrapatoso | Quality of Life Enforcement
TRANSP:OPAQUE
UID:040000008200E00074C5B7101A82E008000000008062306C6261CA01000000000000000
X-MICROSOFT-CDO-BUSYSTATUS:BUSY
X-MICROSOFT-CDO-IMPORTANCE:1
X-MICROSOFT-DISALLOW-COUNTER:FALSE
X-MS-OLK-ALLOWEXTERNCHECK:TRUE
X-MS-OLK-AUTOFILLLOCATION:FALSE
X-MS-OLK-CONFTYPE:0
BEGIN:VALARM
TRIGGER:-PT1440M
ACTION:DISPLAY
DESCRIPTION:Reminder
END:VALARM
END:VEVENT
END:VCALENDAR
