BEGIN:VCALENDAR
PRODID:-//Microsoft Corporation//Outlook 12.0 MIMEDIR//EN
VERSION:2.0
METHOD:PUBLISH
X-MS-OLK-FORCEINSPECTOROPEN:TRUE
BEGIN:VEVENT
CLASS:PUBLIC
CREATED:20140923T015926
DESCRIPTION:Art in Odd Places Number Festival on 14th St.\n\nJen Smith | Free Kisses for Allies\n\nSee www.artinoddplaces.org/number/artists/smith-jen for more info
DTEND:20141013T000000
DTSTAMP:20140923T015926
DTSTART:20141011T000000
LAST-MODIFIED:20140923T035116
LOCATION:http://maps.google.com/maps?q=40.73733991001137+-73.99666428565979\n\n<p>Saturday, October 11 and Sunday, October 12 from 2-5pm on the north side of 14th Street, between Fifth and Sixth Avenues.</p>

PRIORITY:5
SEQUENCE:0
SUMMARY;LANGUAGE=en-us:Jen Smith | Free Kisses for Allies
TRANSP:OPAQUE
UID:040000008200E00074C5B7101A82E008000000008062306C6261CA01000000000000000
X-MICROSOFT-CDO-BUSYSTATUS:BUSY
X-MICROSOFT-CDO-IMPORTANCE:1
X-MICROSOFT-DISALLOW-COUNTER:FALSE
X-MS-OLK-ALLOWEXTERNCHECK:TRUE
X-MS-OLK-AUTOFILLLOCATION:FALSE
X-MS-OLK-CONFTYPE:0
BEGIN:VALARM
TRIGGER:-PT1440M
ACTION:DISPLAY
DESCRIPTION:Reminder
END:VALARM
END:VEVENT
END:VCALENDAR
