BEGIN:VCALENDAR
PRODID:-//Microsoft Corporation//Outlook 12.0 MIMEDIR//EN
VERSION:2.0
METHOD:PUBLISH
X-MS-OLK-FORCEINSPECTOROPEN:TRUE
BEGIN:VEVENT
CLASS:PUBLIC
CREATED:20140923T020313
DESCRIPTION:Art in Odd Places Number Festival on 14th St.\n\nJeff Stark | Free Office Space\n\nSee www.artinoddplaces.org/number/artists/stark-jeff for more info
DTEND:20141011T000000
DTSTAMP:20140923T020313
DTSTART:20141010T000000
LAST-MODIFIED:20141011T180554
LOCATION:http://maps.google.com/maps?q=40.7388734+-74.0009346\n\n<p class="p1">Friday, October 10 from 11am-5pm. At 218 West 14th Street, in front of Rags-a-GoGo.</p>

PRIORITY:5
SEQUENCE:0
SUMMARY;LANGUAGE=en-us:Jeff Stark | Free Office Space
TRANSP:OPAQUE
UID:040000008200E00074C5B7101A82E008000000008062306C6261CA01000000000000000
X-MICROSOFT-CDO-BUSYSTATUS:BUSY
X-MICROSOFT-CDO-IMPORTANCE:1
X-MICROSOFT-DISALLOW-COUNTER:FALSE
X-MS-OLK-ALLOWEXTERNCHECK:TRUE
X-MS-OLK-AUTOFILLLOCATION:FALSE
X-MS-OLK-CONFTYPE:0
BEGIN:VALARM
TRIGGER:-PT1440M
ACTION:DISPLAY
DESCRIPTION:Reminder
END:VALARM
END:VEVENT
END:VCALENDAR
