BEGIN:VCALENDAR
PRODID:-//Microsoft Corporation//Outlook 12.0 MIMEDIR//EN
VERSION:2.0
METHOD:PUBLISH
X-MS-OLK-FORCEINSPECTOROPEN:TRUE
BEGIN:VEVENT
CLASS:PUBLIC
CREATED:20140923T020600
DESCRIPTION:Art in Odd Places Number Festival on 14th St.\n\nClark Stoeckley | Chess Draw\n\nSee www.artinoddplaces.org/number/artists/stoeckley-clark for more info
DTEND:20141013T000000
DTSTAMP:20140923T020600
DTSTART:20141010T000000
LAST-MODIFIED:20141006T201319
LOCATION:http://maps.google.com/maps?q=40.735323803691095+-73.9915251731872\n\n<p>Friday, October 10 through Sunday, October 12 from 9am-5pm at Union Square West and 14th Street.</p>

PRIORITY:5
SEQUENCE:0
SUMMARY;LANGUAGE=en-us:Clark Stoeckley | Chess Draw
TRANSP:OPAQUE
UID:040000008200E00074C5B7101A82E008000000008062306C6261CA01000000000000000
X-MICROSOFT-CDO-BUSYSTATUS:BUSY
X-MICROSOFT-CDO-IMPORTANCE:1
X-MICROSOFT-DISALLOW-COUNTER:FALSE
X-MS-OLK-ALLOWEXTERNCHECK:TRUE
X-MS-OLK-AUTOFILLLOCATION:FALSE
X-MS-OLK-CONFTYPE:0
BEGIN:VALARM
TRIGGER:-PT1440M
ACTION:DISPLAY
DESCRIPTION:Reminder
END:VALARM
END:VEVENT
END:VCALENDAR
