BEGIN:VCALENDAR
PRODID:-//Microsoft Corporation//Outlook 12.0 MIMEDIR//EN
VERSION:2.0
METHOD:PUBLISH
X-MS-OLK-FORCEINSPECTOROPEN:TRUE
BEGIN:VEVENT
CLASS:PUBLIC
CREATED:20140923T021446
DESCRIPTION:Art in Odd Places Number Festival on 14th St.\n\nKevin Townsend | Stria: Lost Time, Misplaced Moments\n\nSee www.artinoddplaces.org/number/artists/townsend-kevin for more info
DTEND:20141013T000000
DTSTAMP:20140923T021446
DTSTART:20141009T000000
LAST-MODIFIED:20140923T035445
LOCATION:http://maps.google.com/maps?q=40.7359741672444+-73.99390697479248\n\n<p>New performative drawings, twice daily throughout the festival, between Fifth Avenue and Tenth Avenue. Specific locations and times will be shared via the project&#8217;s blog: http://losttime-aiop2014.tumblr.com/</p>

PRIORITY:5
SEQUENCE:0
SUMMARY;LANGUAGE=en-us:Kevin Townsend | Stria: Lost Time, Misplaced Moments
TRANSP:OPAQUE
UID:040000008200E00074C5B7101A82E008000000008062306C6261CA01000000000000000
X-MICROSOFT-CDO-BUSYSTATUS:BUSY
X-MICROSOFT-CDO-IMPORTANCE:1
X-MICROSOFT-DISALLOW-COUNTER:FALSE
X-MS-OLK-ALLOWEXTERNCHECK:TRUE
X-MS-OLK-AUTOFILLLOCATION:FALSE
X-MS-OLK-CONFTYPE:0
BEGIN:VALARM
TRIGGER:-PT1440M
ACTION:DISPLAY
DESCRIPTION:Reminder
END:VALARM
END:VEVENT
END:VCALENDAR
