BEGIN:VCALENDAR
PRODID:-//Microsoft Corporation//Outlook 12.0 MIMEDIR//EN
VERSION:2.0
METHOD:PUBLISH
X-MS-OLK-FORCEINSPECTOROPEN:TRUE
BEGIN:VEVENT
CLASS:PUBLIC
CREATED:20140923T022744
DESCRIPTION:Art in Odd Places Number Festival on 14th St.\n\nEmilio Vavarella & Daniel Belquer | MNEMODRONE\n\nSee www.artinoddplaces.org/number/artists/vavarella-emilio-daniel-belquer for more info
DTEND:20141013T000000
DTSTAMP:20140923T022744
DTSTART:20141010T000000
LAST-MODIFIED:20141001T025452
LOCATION:http://maps.google.com/maps?q=40.74270505658407+-74.0082836151123\n\n<p class="p1">Friday, October 10 at the Opening Reception in Campos Plaza. Saturday, October 11 and Sunday, October 12 at variable times between 9am-5pm in 14th Street Park.</p>

PRIORITY:5
SEQUENCE:0
SUMMARY;LANGUAGE=en-us:Emilio Vavarella & Daniel Belquer | MNEMODRONE
TRANSP:OPAQUE
UID:040000008200E00074C5B7101A82E008000000008062306C6261CA01000000000000000
X-MICROSOFT-CDO-BUSYSTATUS:BUSY
X-MICROSOFT-CDO-IMPORTANCE:1
X-MICROSOFT-DISALLOW-COUNTER:FALSE
X-MS-OLK-ALLOWEXTERNCHECK:TRUE
X-MS-OLK-AUTOFILLLOCATION:FALSE
X-MS-OLK-CONFTYPE:0
BEGIN:VALARM
TRIGGER:-PT1440M
ACTION:DISPLAY
DESCRIPTION:Reminder
END:VALARM
END:VEVENT
END:VCALENDAR
